BEGIN:VCALENDAR
PRODID:-//eluceo/ical//2.0/EN
VERSION:2.0
CALSCALE:GREGORIAN
BEGIN:VEVENT
UID:event-34
DTSTAMP:20260424T140643Z
SUMMARY:King of the Court 2026
DESCRIPTION:On Friday the 18th of September we’ll watch the pro’s play 
 Queen &amp\; King of the Court in Utrecht!👑🏐  Sign up will open soo
 n! Here are the details: 📅 Date: Friday\, September 18th 🕒 Time: 1
 9:30 - 23:00 📍 Location: Jaarbeursplein\, Utrecht    
DTSTART:20260918T173000Z
DTEND:20260918T213000Z
END:VEVENT
BEGIN:VTIMEZONE
TZID:UTC
BEGIN:STANDARD
DTSTART:20260918T173000
TZNAME:UTC
TZOFFSETTO:+0000
TZOFFSETFROM:+0000
END:STANDARD
END:VTIMEZONE
END:VCALENDAR
